BEGIN:VCALENDAR
VERSION:2.0
PRODID:-//Direction Home of Eastern Ohio - ECPv6.14.0//NONSGML v1.0//EN
CALSCALE:GREGORIAN
METHOD:PUBLISH
X-ORIGINAL-URL:https://dheo.org
X-WR-CALDESC:Events for Direction Home of Eastern Ohio
REFRESH-INTERVAL;VALUE=DURATION:PT1H
X-Robots-Tag:noindex
X-PUBLISHED-TTL:PT1H
BEGIN:VTIMEZONE
TZID:America/New_York
BEGIN:DAYLIGHT
TZOFFSETFROM:-0500
TZOFFSETTO:-0400
TZNAME:EDT
DTSTART:20250309T070000
END:DAYLIGHT
BEGIN:STANDARD
TZOFFSETFROM:-0400
TZOFFSETTO:-0500
TZNAME:EST
DTSTART:20251102T060000
END:STANDARD
END:VTIMEZONE
BEGIN:VEVENT
DTSTART;TZID=America/New_York:20250902T130000
DTEND;TZID=America/New_York:20251021T130000
DTSTAMP:20260425T204804
CREATED:20250610T142051Z
LAST-MODIFIED:20250610T142051Z
UID:3050-1756818000-1761051600@dheo.org
SUMMARY:Health Coaches for Hypertension presented by Mahoning County Public Health- Sebring
DESCRIPTION:Health Coaches for Hypertension presented by Mahoning County Public Health\nTuesdays at 1:00\nSeptember 2 to October 21\nSebring Public Library\n195 W Ohio Avenue\nSebring\, OH 44572
URL:https://dheo.org/event/health-coaches-for-hypertension-presented-by-mahoning-county-public-health-sebring/
LOCATION:Sebring Library\, 195 Ohio Ave\, Sebring\, OH\, 44672\, United States
END:VEVENT
BEGIN:VEVENT
DTSTART;TZID=America/New_York:20250902T130000
DTEND;TZID=America/New_York:20251106T130000
DTSTAMP:20260425T204804
CREATED:20250611T195322Z
LAST-MODIFIED:20250611T195322Z
UID:3055-1756818000-1762434000@dheo.org
SUMMARY:BINGOCIZE- Newport Library
DESCRIPTION:BINGOCIZE presented by Mahoning County Public Health\nTuesdays and Thursdays\n1:00\nSeptember 2 to November 6\nNewport Public Library\n3730 Market Street\nYoungstown\, OH 44507
URL:https://dheo.org/event/bingocize-newport-library/
LOCATION:Newport Library\, 3730 Market St\, Youngstown\, OH\, 44507\, United States
END:VEVENT
END:VCALENDAR