BEGIN:VCALENDAR
VERSION:2.0
PRODID:-//Direction Home of Eastern Ohio - ECPv6.14.0//NONSGML v1.0//EN
CALSCALE:GREGORIAN
METHOD:PUBLISH
X-WR-CALNAME:Direction Home of Eastern Ohio
X-ORIGINAL-URL:https://dheo.org
X-WR-CALDESC:Events for Direction Home of Eastern Ohio
REFRESH-INTERVAL;VALUE=DURATION:PT1H
X-Robots-Tag:noindex
X-PUBLISHED-TTL:PT1H
BEGIN:VTIMEZONE
TZID:America/New_York
BEGIN:DAYLIGHT
TZOFFSETFROM:-0500
TZOFFSETTO:-0400
TZNAME:EDT
DTSTART:20250309T070000
END:DAYLIGHT
BEGIN:STANDARD
TZOFFSETFROM:-0400
TZOFFSETTO:-0500
TZNAME:EST
DTSTART:20251102T060000
END:STANDARD
END:VTIMEZONE
BEGIN:VEVENT
DTSTART;TZID=America/New_York:20250407T090000
DTEND;TZID=America/New_York:20250825T090000
DTSTAMP:20260425T203741
CREATED:20250113T191918Z
LAST-MODIFIED:20250113T191918Z
UID:2977-1744016400-1756112400@dheo.org
SUMMARY:Tai Ji Quan: Moving for Better Balance- Boardman Park
DESCRIPTION:TJQMBB\nMondays and Wednesdays starting April 7\n9:00 am -10:00 am\nLariccia Family Community Center\nBoardman Park\n375 Boardman-Poland Rd\nBoardman\, OH 44512
URL:https://dheo.org/event/tai-ji-quan-moving-for-better-balance-boardman-park/
LOCATION:Boardman Park Lariccia Family Community Center\, 375 Boardman Poland Rd.\, Boardman\, 44512\, United States
END:VEVENT
BEGIN:VEVENT
DTSTART;TZID=America/New_York:20250603T130000
DTEND;TZID=America/New_York:20250812T130000
DTSTAMP:20260425T203741
CREATED:20241219T204259Z
LAST-MODIFIED:20241219T204259Z
UID:2970-1748955600-1755003600@dheo.org
SUMMARY:Bingocize: East Library
DESCRIPTION:Bingocize\nEast Library\n430 Early Rd.\nYoungstown Oh\, 44505\nTuesday and Thursdays 1pm-2pm\nJune 3- August 12
URL:https://dheo.org/event/bingocize-east-library/
LOCATION:East Library\, 430 Early Road\, Youngstown\, OH\, 44505\, United States
END:VEVENT
END:VCALENDAR