BEGIN:VCALENDAR
VERSION:2.0
PRODID:-//Direction Home of Eastern Ohio - ECPv6.14.0//NONSGML v1.0//EN
CALSCALE:GREGORIAN
METHOD:PUBLISH
X-WR-CALNAME:Direction Home of Eastern Ohio
X-ORIGINAL-URL:https://dheo.org
X-WR-CALDESC:Events for Direction Home of Eastern Ohio
REFRESH-INTERVAL;VALUE=DURATION:PT1H
X-Robots-Tag:noindex
X-PUBLISHED-TTL:PT1H
BEGIN:VTIMEZONE
TZID:America/New_York
BEGIN:DAYLIGHT
TZOFFSETFROM:-0500
TZOFFSETTO:-0400
TZNAME:EDT
DTSTART:20240310T070000
END:DAYLIGHT
BEGIN:STANDARD
TZOFFSETFROM:-0400
TZOFFSETTO:-0500
TZNAME:EST
DTSTART:20241103T060000
END:STANDARD
END:VTIMEZONE
BEGIN:VEVENT
DTSTART;TZID=America/New_York:20240906T100000
DTEND;TZID=America/New_York:20241122T100000
DTSTAMP:20260425T204643
CREATED:20240123T192006Z
LAST-MODIFIED:20240130T161422Z
UID:2832-1725616800-1732269600@dheo.org
SUMMARY:Active Living Every Day: West Farmington Senior Center
DESCRIPTION:West Farmington Senior Center\n150 College Street\nWest Farmington\, OH 44491\nFridays 9/6/2024-11/22/2024\n10:00-11:00am \nContact Gale Justice at 440.437.6311 with questions
URL:https://dheo.org/event/active-living-every-day-3/
LOCATION:West Farmington Senior Center\, 150 College Street\, West Farmington\, OH\, 44491\, United States
END:VEVENT
BEGIN:VEVENT
DTSTART;TZID=America/New_York:20241002T140000
DTEND;TZID=America/New_York:20241112T140000
DTSTAMP:20260425T204643
CREATED:20240906T200420Z
LAST-MODIFIED:20240906T200420Z
UID:2933-1727877600-1731420000@dheo.org
SUMMARY:Matter of Balance: First Presbyterian Youngstown
DESCRIPTION:A Matter of Balance (MOB) is specifically designed to reduce the fear of falling and improve activity levels among community-dwelling older adults. The program includes eight two-hour classes presented to a small group of 8-12 participants led by trained coaches. The program enables participants to reduce the fear of falling by learning to view falls as controllable\, setting goals for increasing activity levels\, making small changes to reduce fall risks at home\, and exercise to increase strength and balance. \nMatter of Balance\nStarting October 2 at 2pm\n201 Wick Ave\nYoungstown\, OH 44503
URL:https://dheo.org/event/matter-of-balance-first-presbyterian-youngstown/
LOCATION:Ohio Living Senior Center\, 201 Wick Ave\, Youngstown\, OH\, 44503\, United States
END:VEVENT
BEGIN:VEVENT
DTSTART;TZID=America/New_York:20241014T130000
DTEND;TZID=America/New_York:20241125T130000
DTSTAMP:20260425T204643
CREATED:20240715T125905Z
LAST-MODIFIED:20240715T125905Z
UID:2908-1728910800-1732539600@dheo.org
SUMMARY:Matter of Balance: Lowellville Park Apartments
DESCRIPTION:A Matter of Balance (MOB) is specifically designed to reduce the fear of falling and improve activity levels among community-dwelling older adults. The program includes eight two-hour classes presented to a small group of 8-12 participants led by trained coaches. The program enables participants to reduce the fear of falling by learning to view falls as controllable\, setting goals for increasing activity levels\, making small changes to reduce fall risks at home\, and exercise to increase strength and balance. \nMondays starting October 14 at 1:00 pm\nLowellville Park Apartments\n810 West Wood Street\nLowellville\, OH 44436
URL:https://dheo.org/event/matter-of-balance-lowellville-park-apartments/
LOCATION:Lowellville Park Apartments\, 810 West Wood Street\, Lowellville\, OH\, 44436\, United States
END:VEVENT
END:VCALENDAR