BEGIN:VCALENDAR
VERSION:2.0
PRODID:-//Direction Home of Eastern Ohio - ECPv6.14.0//NONSGML v1.0//EN
CALSCALE:GREGORIAN
METHOD:PUBLISH
X-ORIGINAL-URL:https://dheo.org
X-WR-CALDESC:Events for Direction Home of Eastern Ohio
REFRESH-INTERVAL;VALUE=DURATION:PT1H
X-Robots-Tag:noindex
X-PUBLISHED-TTL:PT1H
BEGIN:VTIMEZONE
TZID:America/New_York
BEGIN:DAYLIGHT
TZOFFSETFROM:-0500
TZOFFSETTO:-0400
TZNAME:EDT
DTSTART:20240310T070000
END:DAYLIGHT
BEGIN:STANDARD
TZOFFSETFROM:-0400
TZOFFSETTO:-0500
TZNAME:EST
DTSTART:20241103T060000
END:STANDARD
END:VTIMEZONE
BEGIN:VEVENT
DTSTART;TZID=America/New_York:20240305T120000
DTEND;TZID=America/New_York:20240909T120000
DTSTAMP:20260425T164429
CREATED:20240130T162111Z
LAST-MODIFIED:20240130T162111Z
UID:2845-1709640000-1725883200@dheo.org
SUMMARY:Tai Ji Quan: Moving for Better Balance McDonald Senior Center
DESCRIPTION:Tai Ji Quan: Moving for Better Balance® (TJQMBB) is a research-based balance training regimen designed for older adults at risk of falling and people with balance disorders. Fuzhong Li\, Ph.D.\, a Senior Scientist at Oregon Research Institute\, developed the program. \nAlthough its origin can be traced to the contemporary simplified 24-form Tai Ji Quan routine\, TJQMBB represents a significant paradigm shift in the application of Tai Ji Quan\, moving the focus from its historical use as a martial art or recreational activity to propagating health by addressing common\, but potentially debilitating\, functional impairments/deficits. \nThis unique training approach is the culmination of a systematic series of scientific studies to improve efficacy\, utility\, and community and clinical relevance. \nThis FREE course runs Tuesdays and Thursdays from 12pm-1pm starting March 5th.
URL:https://dheo.org/event/tai-ji-quan-moving-for-better-balance-mcdonald-senior-center/
LOCATION:McDonald Senior Center\, 500 Ohio Ave\, McDonald\, OH\, 44437\, United States
END:VEVENT
BEGIN:VEVENT
DTSTART;TZID=America/New_York:20240506T100000
DTEND;TZID=America/New_York:20241017T100000
DTSTAMP:20260425T164429
CREATED:20240103T145134Z
LAST-MODIFIED:20240103T145134Z
UID:2781-1714989600-1729159200@dheo.org
SUMMARY:Tai Ji Quan: Moving for Better Balance: Hubbard Scope
DESCRIPTION:Tai Ji Quan: Moving for Better Balance® (TJQMBB) is a research-based balance training regimen designed for older adults at risk of falling and people with balance disorders. Fuzhong Li\, Ph.D.\, a Senior Scientist at Oregon Research Institute\, developed the program. \nAlthough its origin can be traced to the contemporary simplified 24-form Tai Ji Quan routine\, TJQMBB represents a significant paradigm shift in the application of Tai Ji Quan\, moving the focus from its historical use as a martial art or recreational activity to propagating health by addressing common\, but potentially debilitating\, functional impairments/deficits. \nThis unique training approach is the culmination of a systematic series of scientific studies to improve efficacy\, utility\, and community and clinical relevance. \nThis FREE course runs Mondays and Wednesdays from 10am-12am from 5/6/24 to 10/17/24.
URL:https://dheo.org/event/tai-ji-quan-moving-for-better-balance-hubbard-scope/
LOCATION:Hubbard SCOPE\, 220 West Liberty St\, Hubbard\, OH\, 44425\, United States
END:VEVENT
BEGIN:VEVENT
DTSTART;TZID=America/New_York:20240611T100000
DTEND;TZID=America/New_York:20240822T100000
DTSTAMP:20260425T164429
CREATED:20240515T125153Z
LAST-MODIFIED:20240515T130602Z
UID:2881-1718100000-1724320800@dheo.org
SUMMARY:Bingocize- Sebring Library
DESCRIPTION:Tuesdays and Thursdays starting June 11 until August 22\n10:00-11:00\nBingocize is a 10-week\, evidence-based health promotion program. Designed to improve and/or maintain mobility and independence\, while learning and using health information focused on falls reduction\, improving nutrition\, and other health related behaviors for everyday life.  Bingocize combines exercise and health information with the familiar game of bingo\, which is a great and fun way to get moving and socializing.  It’s meant to be played twice a week on nonconsecutive days. Each session usually lasts 45-60 minutes.
URL:https://dheo.org/event/bingocize-sebring-library/
LOCATION:Sebring Library\, 195 Ohio Ave\, Sebring\, OH\, 44672\, United States
END:VEVENT
BEGIN:VEVENT
DTSTART;TZID=America/New_York:20240611T103000
DTEND;TZID=America/New_York:20240827T103000
DTSTAMP:20260425T164429
CREATED:20240123T191546Z
LAST-MODIFIED:20240123T191546Z
UID:2827-1718101800-1724754600@dheo.org
SUMMARY:Active Living Every Day
DESCRIPTION:Johnston Senior Center\n5922 Warren Rd\nCortland\, OH 44410\nTuesdays 6/11/2024-8/27/2024\n10:30-11:30 \nContact Gale Justice at 440.437.6311 with questions
URL:https://dheo.org/event/active-living-every-day-2/
LOCATION:Johnston Senior Center\, 5922 Warren Rd\, Cortland\, OH\, 44410\, United States
END:VEVENT
BEGIN:VEVENT
DTSTART;TZID=America/New_York:20240712T100000
DTEND;TZID=America/New_York:20240830T100000
DTSTAMP:20260425T164429
CREATED:20240123T191805Z
LAST-MODIFIED:20240130T161411Z
UID:2830-1720778400-1725012000@dheo.org
SUMMARY:Matter of Balance: Country Neighbor Orwell
DESCRIPTION:Country Neighbor\n39 S Maple\nOrwell\, OH 44076\nFridays 7/12/2024-8/30/2024\n10:00-12:00pm \nContact Gale Justice at 440.437.6311 with questions
URL:https://dheo.org/event/matter-of-balance-9/
LOCATION:Country Neighbor Orwell\, 39 South Maple Street\, Orwell\, OH\, 44076\, United States
END:VEVENT
BEGIN:VEVENT
DTSTART;TZID=America/New_York:20240805T123000
DTEND;TZID=America/New_York:20241111T123000
DTSTAMP:20260425T164429
CREATED:20240702T150331Z
LAST-MODIFIED:20240702T150331Z
UID:2896-1722861000-1731328200@dheo.org
SUMMARY:Tai Ji Quan: Moving for Better Balance - Ohio Living Vivo Center
DESCRIPTION:Tai Ji Quan: Moving for Better Balance® (TJQMBB) is a research-based balance training regimen designed for older adults at risk of falling and people with balance disorders. Fuzhong Li\, Ph.D.\, a Senior Scientist at Oregon Research Institute\, developed the program. \nAlthough its origin can be traced to the contemporary simplified 24-form Tai Ji Quan routine\, TJQMBB represents a significant paradigm shift in the application of Tai Ji Quan\, moving the focus from its historical use as a martial art or recreational activity to propagating health by addressing common\, but potentially debilitating\, functional impairments/deficits. \nThis unique training approach is the culmination of a systematic series of scientific studies to improve efficacy\, utility\, and community and clinical relevance. \nThis Free course will be held Monday and Fridays starting August 5 at 12:30.
URL:https://dheo.org/event/tai-ji-quan-moving-for-better-balance-ohio-living-vivo-center/
LOCATION:Ohio Living Senior Center\, 201 Wick Ave\, Youngstown\, OH\, 44503\, United States
END:VEVENT
END:VCALENDAR