BEGIN:VCALENDAR
VERSION:2.0
PRODID:-//Direction Home of Eastern Ohio - ECPv6.14.0//NONSGML v1.0//EN
CALSCALE:GREGORIAN
METHOD:PUBLISH
X-ORIGINAL-URL:https://dheo.org
X-WR-CALDESC:Events for Direction Home of Eastern Ohio
REFRESH-INTERVAL;VALUE=DURATION:PT1H
X-Robots-Tag:noindex
X-PUBLISHED-TTL:PT1H
BEGIN:VTIMEZONE
TZID:America/New_York
BEGIN:DAYLIGHT
TZOFFSETFROM:-0500
TZOFFSETTO:-0400
TZNAME:EDT
DTSTART:20240310T070000
END:DAYLIGHT
BEGIN:STANDARD
TZOFFSETFROM:-0400
TZOFFSETTO:-0500
TZNAME:EST
DTSTART:20241103T060000
END:STANDARD
END:VTIMEZONE
BEGIN:VEVENT
DTSTART;TZID=America/New_York:20240102T090000
DTEND;TZID=America/New_York:20240627T090000
DTSTAMP:20260425T094524
CREATED:20240102T165546Z
LAST-MODIFIED:20240102T191320Z
UID:2759-1704186000-1719478800@dheo.org
SUMMARY:Tai Ji Quan: Moving for Better Balance Austintown Senior Center
DESCRIPTION:Tai Ji Quan: Moving for Better Balance® (TJQMBB) is a research-based balance training regimen designed for older adults at risk of falling and people with balance disorders. Fuzhong Li\, Ph.D.\, a Senior Scientist at Oregon Research Institute\, developed the program. \nAlthough its origin can be traced to the contemporary simplified 24-form Tai Ji Quan routine\, TJQMBB represents a significant paradigm shift in the application of Tai Ji Quan\, moving the focus from its historical use as a martial art or recreational activity to propagating health by addressing common\, but potentially debilitating\, functional impairments/deficits. \nThis unique training approach is the culmination of a systematic series of scientific studies to improve efficacy\, utility\, and community and clinical relevance. \nThis FREE course runs Tuesdays and Thursdays from 9am-10am from 1/2/24 to 6/27/24.
URL:https://dheo.org/event/tai-ji-quan-moving-for-better-balance-9/
LOCATION:Austintown Senior Center\, 112 Westchester Dr\, Austintown\, OH\, 44515\, United States
END:VEVENT
BEGIN:VEVENT
DTSTART;TZID=America/New_York:20240102T100000
DTEND;TZID=America/New_York:20240411T100000
DTSTAMP:20260425T094524
CREATED:20240102T165410Z
LAST-MODIFIED:20240102T191300Z
UID:2756-1704189600-1712829600@dheo.org
SUMMARY:Tai Ji Quan: Moving for Better Balance: Continuing Healthcare at the Ridge
DESCRIPTION:Tai Ji Quan: Moving for Better Balance® (TJQMBB) is a research-based balance training regimen designed for older adults at risk of falling and people with balance disorders. Fuzhong Li\, Ph.D.\, a Senior Scientist at Oregon Research Institute\, developed the program. \nAlthough its origin can be traced to the contemporary simplified 24-form Tai Ji Quan routine\, TJQMBB represents a significant paradigm shift in the application of Tai Ji Quan\, moving the focus from its historical use as a martial art or recreational activity to propagating health by addressing common\, but potentially debilitating\, functional impairments/deficits. \nThis unique training approach is the culmination of a systematic series of scientific studies to improve efficacy\, utility\, and community and clinical relevance. \nThis FREE Tai Ji Quan course runs Tuesdays and Thursdays 10am-11pm until 4/11/24
URL:https://dheo.org/event/tai-ji-quan-moving-for-better-balance-8/
LOCATION:Continuing Healthcare at the Ridge\, 3379 Main St.\, Mineral Ridge\, 44440\, United States
END:VEVENT
BEGIN:VEVENT
DTSTART;TZID=America/New_York:20240206T103000
DTEND;TZID=America/New_York:20240726T103000
DTSTAMP:20260425T094524
CREATED:20240102T170041Z
LAST-MODIFIED:20240102T191217Z
UID:2764-1707215400-1721989800@dheo.org
SUMMARY:Tai Ji Quan: Moving for Better Balance: Easterseals of Mahoning\, Trumbull and Columbiana Counties
DESCRIPTION:Tai Ji Quan: Moving for Better Balance® (TJQMBB) is a research-based balance training regimen designed for older adults at risk of falling and people with balance disorders. Fuzhong Li\, Ph.D.\, a Senior Scientist at Oregon Research Institute\, developed the program. \nAlthough its origin can be traced to the contemporary simplified 24-form Tai Ji Quan routine\, TJQMBB represents a significant paradigm shift in the application of Tai Ji Quan\, moving the focus from its historical use as a martial art or recreational activity to propagating health by addressing common\, but potentially debilitating\, functional impairments/deficits. \nThis unique training approach is the culmination of a systematic series of scientific studies to improve efficacy\, utility\, and community and clinical relevance. \nThis FREE course runs Tuesdays and Fridays from 10:30am-11:30pm starting 2/6/24 thru 7/26/24.
URL:https://dheo.org/event/tai-ji-quan-moving-for-better-balance-11/
LOCATION:Easterseals of Mahoning\, Trumbull and Columbiana Counties\, 299 Edwards St.\, Youngstown\, OH\, 44502\, United States
END:VEVENT
BEGIN:VEVENT
DTSTART;TZID=America/New_York:20240206T120000
DTEND;TZID=America/New_York:20240725T120000
DTSTAMP:20260425T094524
CREATED:20240102T165806Z
LAST-MODIFIED:20240102T191111Z
UID:2761-1707220800-1721908800@dheo.org
SUMMARY:Tai Ji Quan: Moving for Better Balance: Newton Falls SCOPE
DESCRIPTION:Tai Ji Quan: Moving for Better Balance® (TJQMBB) is a research-based balance training regimen designed for older adults at risk of falling and people with balance disorders. Fuzhong Li\, Ph.D.\, a Senior Scientist at Oregon Research Institute\, developed the program. \nAlthough its origin can be traced to the contemporary simplified 24-form Tai Ji Quan routine\, TJQMBB represents a significant paradigm shift in the application of Tai Ji Quan\, moving the focus from its historical use as a martial art or recreational activity to propagating health by addressing common\, but potentially debilitating\, functional impairments/deficits. \nThis unique training approach is the culmination of a systematic series of scientific studies to improve efficacy\, utility\, and community and clinical relevance. \nThis FREE course runs Tuesdays and Thursdays from 12pm-1pm starting 2/6/24-7/25/24.
URL:https://dheo.org/event/tai-ji-quan-moving-for-better-balance-10/
LOCATION:Newton Falls Scope Center\, 612 W. Broad St.\, Newton Falls\, OH\, 44444\, United States
END:VEVENT
BEGIN:VEVENT
DTSTART;TZID=America/New_York:20240219T103000
DTEND;TZID=America/New_York:20240807T103000
DTSTAMP:20260425T094524
CREATED:20240102T204122Z
LAST-MODIFIED:20240102T204158Z
UID:2776-1708338600-1723026600@dheo.org
SUMMARY:Tai Ji Quan: Moving for Better Balance: YMCA Central
DESCRIPTION:Tai Ji Quan: Moving for Better Balance® (TJQMBB) is a research-based balance training regimen designed for older adults at risk of falling and people with balance disorders. Fuzhong Li\, Ph.D.\, a Senior Scientist at Oregon Research Institute\, developed the program. \nAlthough its origin can be traced to the contemporary simplified 24-form Tai Ji Quan routine\, TJQMBB represents a significant paradigm shift in the application of Tai Ji Quan\, moving the focus from its historical use as a martial art or recreational activity to propagating health by addressing common\, but potentially debilitating\, functional impairments/deficits. \nThis unique training approach is the culmination of a systematic series of scientific studies to improve efficacy\, utility\, and community and clinical relevance. \nThis FREE course is open to the public (you do not need to be a member of the YMCA to attend) and will run Mondays and Wednesday from 10:30-11:30 from 2/19/24 thru 8/7/24.
URL:https://dheo.org/event/tai-ji-quan-moving-for-better-balance-ymca-central/
LOCATION:YMCA Central\, 17 N Champion St.\, Youngstown\, OH\, 44503\, United States
END:VEVENT
BEGIN:VEVENT
DTSTART;TZID=America/New_York:20240304T093000
DTEND;TZID=America/New_York:20240422T093000
DTSTAMP:20260425T094524
CREATED:20240123T190906Z
LAST-MODIFIED:20240130T161520Z
UID:2820-1709544600-1713778200@dheo.org
SUMMARY:Matter of Balance: Geneva Senior Center
DESCRIPTION:Geneva Senior Center\n62 West Main Street\nGeneva\, OH 44041\nMondays 3/4/2024-4/22/2024\n9:30-11:30am \nContact Gale Justice at 440.437.6311 with questions
URL:https://dheo.org/event/matter-of-balance-7/
LOCATION:Geneva Senior Center\, 62 West Main Street\, Geneva\, OH\, 44041\, United States
END:VEVENT
BEGIN:VEVENT
DTSTART;TZID=America/New_York:20240304T140000
DTEND;TZID=America/New_York:20240805T140000
DTSTAMP:20260425T094524
CREATED:20240130T161815Z
LAST-MODIFIED:20240130T161815Z
UID:2842-1709560800-1722866400@dheo.org
SUMMARY:Matter of Balance: Amedia Plaza Youngstown
DESCRIPTION:A Matter of Balance (MOB) is specifically designed to reduce the fear of falling and improve activity levels among community-dwelling older adults. The program includes eight two-hour classes presented to a small group of 8-12 participants led by trained coaches. The program enables participants to reduce the fear of falling by learning to view falls as controllable\, setting goals for increasing activity levels\, making small changes to reduce fall risks at home\, and exercise to increase strength and balance. \nAmedia Plaza\n131 Boardman St\nYoungstown\, OH 44503\nMondays starting March 4 at 2pm
URL:https://dheo.org/event/matter-of-balance-amedia-plaza-youngstown/
LOCATION:Amedia Plaza\, 131 Boardman St.\, Youngstown\, OH\, 44503\, United States
END:VEVENT
BEGIN:VEVENT
DTSTART;TZID=America/New_York:20240305T103000
DTEND;TZID=America/New_York:20240521T103000
DTSTAMP:20260425T094524
CREATED:20240123T191054Z
LAST-MODIFIED:20240130T161502Z
UID:2822-1709634600-1716287400@dheo.org
SUMMARY:Active Living Every Day: Kinsman Resource Center
DESCRIPTION:Kinsman Resource Center\n8441 Main Street\nKinsman\, OH 44428\nTuesdays 3/5/2024-5/21/2024\n10:30-11:30 \nContact Gale Justice at 440.437.6311 with questions
URL:https://dheo.org/event/active-living-every-day/
LOCATION:Kinsman Resource Center\, 8441 Main Street\, Kinsman\, OH\, 44428\, United States
END:VEVENT
BEGIN:VEVENT
DTSTART;TZID=America/New_York:20240305T120000
DTEND;TZID=America/New_York:20240909T120000
DTSTAMP:20260425T094524
CREATED:20240130T162111Z
LAST-MODIFIED:20240130T162111Z
UID:2845-1709640000-1725883200@dheo.org
SUMMARY:Tai Ji Quan: Moving for Better Balance McDonald Senior Center
DESCRIPTION:Tai Ji Quan: Moving for Better Balance® (TJQMBB) is a research-based balance training regimen designed for older adults at risk of falling and people with balance disorders. Fuzhong Li\, Ph.D.\, a Senior Scientist at Oregon Research Institute\, developed the program. \nAlthough its origin can be traced to the contemporary simplified 24-form Tai Ji Quan routine\, TJQMBB represents a significant paradigm shift in the application of Tai Ji Quan\, moving the focus from its historical use as a martial art or recreational activity to propagating health by addressing common\, but potentially debilitating\, functional impairments/deficits. \nThis unique training approach is the culmination of a systematic series of scientific studies to improve efficacy\, utility\, and community and clinical relevance. \nThis FREE course runs Tuesdays and Thursdays from 12pm-1pm starting March 5th.
URL:https://dheo.org/event/tai-ji-quan-moving-for-better-balance-mcdonald-senior-center/
LOCATION:McDonald Senior Center\, 500 Ohio Ave\, McDonald\, OH\, 44437\, United States
END:VEVENT
END:VCALENDAR