BEGIN:VCALENDAR
VERSION:2.0
PRODID:-//Direction Home of Eastern Ohio - ECPv6.14.0//NONSGML v1.0//EN
CALSCALE:GREGORIAN
METHOD:PUBLISH
X-WR-CALNAME:Direction Home of Eastern Ohio
X-ORIGINAL-URL:https://dheo.org
X-WR-CALDESC:Events for Direction Home of Eastern Ohio
REFRESH-INTERVAL;VALUE=DURATION:PT1H
X-Robots-Tag:noindex
X-PUBLISHED-TTL:PT1H
BEGIN:VTIMEZONE
TZID:America/New_York
BEGIN:DAYLIGHT
TZOFFSETFROM:-0500
TZOFFSETTO:-0400
TZNAME:EDT
DTSTART:20240310T070000
END:DAYLIGHT
BEGIN:STANDARD
TZOFFSETFROM:-0400
TZOFFSETTO:-0500
TZNAME:EST
DTSTART:20241103T060000
END:STANDARD
END:VTIMEZONE
BEGIN:VEVENT
DTSTART;TZID=America/New_York:20240102T090000
DTEND;TZID=America/New_York:20240627T090000
DTSTAMP:20260425T064732
CREATED:20240102T165546Z
LAST-MODIFIED:20240102T191320Z
UID:2759-1704186000-1719478800@dheo.org
SUMMARY:Tai Ji Quan: Moving for Better Balance Austintown Senior Center
DESCRIPTION:Tai Ji Quan: Moving for Better Balance® (TJQMBB) is a research-based balance training regimen designed for older adults at risk of falling and people with balance disorders. Fuzhong Li\, Ph.D.\, a Senior Scientist at Oregon Research Institute\, developed the program. \nAlthough its origin can be traced to the contemporary simplified 24-form Tai Ji Quan routine\, TJQMBB represents a significant paradigm shift in the application of Tai Ji Quan\, moving the focus from its historical use as a martial art or recreational activity to propagating health by addressing common\, but potentially debilitating\, functional impairments/deficits. \nThis unique training approach is the culmination of a systematic series of scientific studies to improve efficacy\, utility\, and community and clinical relevance. \nThis FREE course runs Tuesdays and Thursdays from 9am-10am from 1/2/24 to 6/27/24.
URL:https://dheo.org/event/tai-ji-quan-moving-for-better-balance-9/
LOCATION:Austintown Senior Center\, 112 Westchester Dr\, Austintown\, OH\, 44515\, United States
END:VEVENT
BEGIN:VEVENT
DTSTART;TZID=America/New_York:20240102T100000
DTEND;TZID=America/New_York:20240411T100000
DTSTAMP:20260425T064732
CREATED:20240102T165410Z
LAST-MODIFIED:20240102T191300Z
UID:2756-1704189600-1712829600@dheo.org
SUMMARY:Tai Ji Quan: Moving for Better Balance: Continuing Healthcare at the Ridge
DESCRIPTION:Tai Ji Quan: Moving for Better Balance® (TJQMBB) is a research-based balance training regimen designed for older adults at risk of falling and people with balance disorders. Fuzhong Li\, Ph.D.\, a Senior Scientist at Oregon Research Institute\, developed the program. \nAlthough its origin can be traced to the contemporary simplified 24-form Tai Ji Quan routine\, TJQMBB represents a significant paradigm shift in the application of Tai Ji Quan\, moving the focus from its historical use as a martial art or recreational activity to propagating health by addressing common\, but potentially debilitating\, functional impairments/deficits. \nThis unique training approach is the culmination of a systematic series of scientific studies to improve efficacy\, utility\, and community and clinical relevance. \nThis FREE Tai Ji Quan course runs Tuesdays and Thursdays 10am-11pm until 4/11/24
URL:https://dheo.org/event/tai-ji-quan-moving-for-better-balance-8/
LOCATION:Continuing Healthcare at the Ridge\, 3379 Main St.\, Mineral Ridge\, 44440\, United States
END:VEVENT
END:VCALENDAR